BEGIN:VCALENDAR
VERSION:2.0
PRODID:icalendar-ruby
CALSCALE:GREGORIAN
METHOD:PUBLISH
BEGIN:VEVENT
DTSTAMP:20260422T234913Z
UID:621-5035358@clp.church
DTSTART:20261025T150000Z
DTEND:20261025T180000Z
CLASS:PUBLIC
CREATED:20260422T161141
DESCRIPTION:Donations needed of dry foods (canned and boxed)\;  full size 
 toiletries\; water\; sport drinks\; hydration packets.  Drop off Sundays 
 in the bins at the entrances of the Sanctuary.
LAST-MODIFIED:20260422T161141
LOCATION:Sanctuary on Sundays
SUMMARY:Agua Fria Food and Clothing Bank
URL;VALUE=URI:https://www.churchatlitchfieldpark.org/events/agua-fria-food-
 and-clothing-bank/2026-10-25
ATTACH;FILENAME=AGUA FRIA.png;FMTTYPE=image/png:https://dq5pwpg1q8ru0.cloud
 front.net/2025/05/12/18/00/22/0cc6323b-f9fd-41a2-97b1-b032c683431f/AGUA%20
 FRIA.png
END:VEVENT
END:VCALENDAR
