BEGIN:VCALENDAR
VERSION:2.0
PRODID:icalendar-ruby
CALSCALE:GREGORIAN
METHOD:PUBLISH
BEGIN:VEVENT
DTSTAMP:20260423T225859Z
UID:744-5052434@clp.church
DTSTART:20260508T000000Z
DTEND:20260508T010000Z
CLASS:PUBLIC
CREATED:20260423T134450
DESCRIPTION:
LAST-MODIFIED:20260423T134450
LOCATION:ZIESKE HALL
SUMMARY:Men's Small Group Bible Study
URL;VALUE=URI:https://www.churchatlitchfieldpark.org/events/mens-small-grou
 p-bible-study/2026-05-07
ATTACH;FILENAME=Walker Bible Study 2026 (3).png;FMTTYPE=image/png:https://d
 q5pwpg1q8ru0.cloudfront.net/2026/04/23/20/44/49/a4de921a-c068-4bc4-8e75-85
 28eee7d7b2/Walker%20Bible%20Study%202026%20(3).png
END:VEVENT
END:VCALENDAR
